BEGIN:VCALENDAR
VERSION:2.0
PRODID:-//Squarespace Inc/Squarespace 6//v6//EN
BEGIN:VEVENT
UID:59a9341be5dd5bf2b2de3b4e@squarespace.com
DTSTAMP:20170901T102507Z
DTSTART:20170901T103000Z
DTEND:20170901T113000Z
SUMMARY:Example Event
END:VEVENT
END:VCALENDAR
